BEGIN:VCALENDAR
VERSION:2.0
PRODID:-//Tukios.com/
BEGIN:VEVENT
UID:0b24e3d0-e300-45a5-b998-11c5e4e7837b@www.crematesimply.com
DTSTAMP:20260421T202949Z
DTSTART:20260516T160000Z
DTEND:20260516T170000Z
SUMMARY:Mass
DESCRIPTION:
URL:https://www.crematesimply.com/obituaries/carroll-roland
LOCATION:St. Mary’s Catholic Church 109 South French Street  
	Breckenridge CO 80424
GEO:39.4814532;-106.0440884
END:VEVENT
END:VCALENDAR