BEGIN:VCALENDAR
VERSION:2.0
PRODID:-//Tukios.com/
BEGIN:VEVENT
UID:7deee11a-205f-4e5b-9dbf-0371a154665a@www.crematesimply.com
DTSTAMP:20260420T100233Z
DTSTART:20260502T200000Z
DTEND:20260502T210000Z
SUMMARY:Memorial Service
DESCRIPTION:
URL:https://www.crematesimply.com/obituaries/allen-stwalley
LOCATION:Good Shepherd United Methodist Church 3960 E 128th Ave  Thornton 
	CO 80241
GEO:39.9274014;-104.9429009
END:VEVENT
END:VCALENDAR